BEGIN:VCALENDAR
VERSION:2.0
PRODID:-//e4ds.com//webinar//EN
BEGIN:VEVENT
UID:20251030T000000Z18459
SUMMARY:[e4ds webinar] 2025 중급 엔지니어 실무 마스터 클래스 - 단 하루에 완성하는 전자회로 설계 실전 교육 (100% 실습기반)
DTSTART:20251030T000000Z
DTEND:20251030T080000Z
DESCRIPTION:https://www.e4ds.com/webinar_detail.asp?idx=946
END:VEVENT
END:VCALENDAR