BEGIN:VCALENDAR
VERSION:2.0
PRODID:-//e4ds.com//webinar//EN
BEGIN:VEVENT
UID:20251113T000000Z23306
SUMMARY:[e4ds webinar] 실무자를 위한 LTspice 집중 마스터 클래스 (임승찬 교수 특별 강의)
DTSTART:20251113T000000Z
DTEND:20251113T080000Z
DESCRIPTION:https://www.e4ds.com/webinar_detail.asp?idx=948
END:VEVENT
END:VCALENDAR