BEGIN:VCALENDAR
VERSION:2.0
PRODID:-//e4ds.com//webinar//EN
BEGIN:VEVENT
UID:20260212T000000Z17957
SUMMARY:[e4ds webinar] 2026 고급 엔지니어 실무 마스터 클래스 - 저잡음/저전력 회로 이해 및 고급 응용 회로 설계
DTSTART:20260212T000000Z
DTEND:20260212T080000Z
DESCRIPTION:https://www.e4ds.com/webinar_detail.asp?idx=971
END:VEVENT
END:VCALENDAR